BEGIN:VCALENDAR
PRODID:-//kirchenweb.ch gmbh//veranstaltungsausgabe v2.0//DE
VERSION:2.0
METHOD:PUBLISH
BEGIN:VEVENT
DTSTART:20260919T083000Z
DTEND:20260919T180000Z
LOCATION:St.Johann\, Kirchhofplatz\, 8200 Schaffhausen
TRANSP:OPAQUE
SEQUENCE:0
UID:181817-veranstaltung@ref-sh.ch
DTSTAMP:20260213T153307Z
DESCRIPTION:Veranstaltet von Chören und KirchenmusikernInnen im Kanton in
  Zusammenarbeit mit
  https://enchante-ref.ch/veranstaltungen/kantonaler-singtag-in-schaffhausen
 \n\nKontakt: Pfarrerin Ute Nürnberg\n\nWeitere Infos:
  https://www.ref-sh.ch/veranstaltung/181817
SUMMARY:enchanté-Chorfest
PRIORITY:5
X-MICROSOFT-CDO-IMPORTANCE:1
CLASS:PUBLIC
END:VEVENT
END:VCALENDAR
