BEGIN:VCALENDAR
PRODID:-//kirchenweb.ch gmbh//veranstaltungsausgabe v2.0//DE
VERSION:2.0
METHOD:PUBLISH
BEGIN:VEVENT
DTSTART:20261130T104500Z
DTEND:20261130T114500Z
LOCATION:Bistro Trämli\, Hauptstrasse 70B\, 8225 Siblingen
TRANSP:OPAQUE
SEQUENCE:0
UID:191208-veranstaltung@ref-sh.ch
DTSTAMP:20251117T163035Z
DESCRIPTION:Es ist wunderbar\, dass wir neu das http://https://trämli.ch
  im Dorf haben. In dieser besonderen Umgebung sind wir willkommen für
  unseren Senioren-Zmittag.\n\nKontakt: Pfrn. Karin Baumgartner-Vetterli\,
  Hauptstrasse 59\, 8225 Siblingen\, karin.baumgartner@ref-sh.ch\, 079 179
  61 15\n\nWeitere Infos: https://www.ref-sh.ch/veranstaltung/191208
SUMMARY:Senioren-Zmittag
PRIORITY:5
X-MICROSOFT-CDO-IMPORTANCE:1
CLASS:PUBLIC
END:VEVENT
END:VCALENDAR
