BEGIN:VCALENDAR
PRODID:-//kirchenweb.ch gmbh//veranstaltungsausgabe v2.0//DE
VERSION:2.0
METHOD:PUBLISH
BEGIN:VEVENT
DTSTART:20261127T190000Z
DTEND:20261127T200000Z
LOCATION:Grütli\, Hauptstrasse 59\, 8225 Siblingen
TRANSP:OPAQUE
SEQUENCE:0
UID:191221-veranstaltung@ref-sh.ch
DTSTAMP:20251230T183838Z
DESCRIPTION:Das Boot ist voll (vorbehältlich Genehmigung zur Aufführung)
 \n\nKontakt: Pfrn. Pfrn. Karin Baumgartner-Vetterli\, Hauptstrasse 59\,
  8225 Siblingen\, karin.baumgartner@ref-sh.ch\, 079 179 61 15\n\nWeitere
  Infos: https://www.ref-sh.ch/veranstaltung/191221
SUMMARY:Filmabend
PRIORITY:5
X-MICROSOFT-CDO-IMPORTANCE:1
CLASS:PUBLIC
END:VEVENT
END:VCALENDAR
