BEGIN:VCALENDAR
PRODID:-//kirchenweb.ch gmbh//veranstaltungsausgabe v2.0//DE
VERSION:2.0
METHOD:PUBLISH
BEGIN:VEVENT
DTSTART:20261208T110000Z
DTEND:20261208T120000Z
LOCATION:Restaurant Sonne\, Dorfstrasse 6\, 8228 Beggingen
TRANSP:OPAQUE
SEQUENCE:0
UID:193566-veranstaltung@ref-sh.ch
DTSTAMP:20260126T084730Z
DESCRIPTION:mit Zmittag\, Liedern\, Musik und einer Weihnachtsgeschichte\n
 \nKontakt: Yvonne Vogelsanger\, Wannenhof 281\, 8228 Beggingen\,
  yvonne.vogelsanger@ref-sh.ch\, 079 686 75 19\n\nWeitere Infos:
  https://www.ref-sh.ch/veranstaltung/193566
SUMMARY:Senioren-Weihnacht
PRIORITY:5
X-MICROSOFT-CDO-IMPORTANCE:1
CLASS:PUBLIC
END:VEVENT
END:VCALENDAR
