BEGIN:VCALENDAR
PRODID:-//kirchenweb.ch gmbh//veranstaltungsausgabe v2.0//DE
VERSION:2.0
METHOD:PUBLISH
BEGIN:VEVENT
DTSTART:20261217T104000Z
DTEND:20261217T114000Z
LOCATION:Siblinger Randenhaus\, \, 8225 Siblingen
TRANSP:OPAQUE
SEQUENCE:0
UID:193567-veranstaltung@ref-sh.ch
DTSTAMP:20251230T183712Z
DESCRIPTION:Wir treffen uns um 11.40Uhr beim Parkplatz vor dem
  Gemeindehaus und um 11.45 Uhr im Graben und fahren mit dem Bus gemeinsam
  hoch zum Siblinger Randenhaus. Dort geniessen einen festlichen Zmittag
  und hören zwischendurch eine Weihnachtsgeschichte. Rückfahrt um ca.
  14.00 Uhr. Wir freuen uns auf das vorweihnächtliche Zusammensein auf dem
  Randen.\n\nDie Kosten pro Person betragen 25 Franken. Was dazukommt\,
  übernimmt die Kirchgemeinde.\n\nKontakt: Yvonne Vogelsanger\, Wannenhof
  281\, 8228 Beggingen\, yvonne.vogelsanger@ref-sh.ch\, 079 686 75 19\n
 \nWeitere Infos: https://www.ref-sh.ch/veranstaltung/193567
SUMMARY:Senioren-Weihnacht
PRIORITY:5
X-MICROSOFT-CDO-IMPORTANCE:1
CLASS:PUBLIC
END:VEVENT
END:VCALENDAR
