BEGIN:VCALENDAR
PRODID:-//kirchenweb.ch gmbh//veranstaltungsausgabe v2.0//DE
VERSION:2.0
METHOD:PUBLISH
BEGIN:VEVENT
DTSTART:20260920T090000Z
DTEND:20260920T100000Z
LOCATION:Uf Muure Beggingen\, \, 8228 Beggingen
TRANSP:OPAQUE
SEQUENCE:0
UID:195901-veranstaltung@ref-sh.ch
DTSTAMP:20260407T121859Z
DESCRIPTION:Festwirtschaft der Männerriege Beggingen\n\nBei schlechter
  Witterung in der Kirche Beggingen\n\nFahrdienst Beggingen: Anmeldung bei
  Barbara Kaul Tel. 079 352 27 61\nFardienst Siblingen: Anmeldung via Liste
  in der Kirche Siblingen\n\nKontakt: Pfrn. Karin Baumgartner-Vetterli\,
  Hauptstrasse 59\, 8225 Siblingen\, karin.baumgartner@ref-sh.ch\, 079 179
  61 15\n\nWeitere Infos: https://www.ref-sh.ch/veranstaltung/195901
SUMMARY:Familien-Erntedank-Gottesdienst
PRIORITY:5
X-MICROSOFT-CDO-IMPORTANCE:1
CLASS:PUBLIC
END:VEVENT
END:VCALENDAR
