BEGIN:VCALENDAR
PRODID:-//kirchenweb.ch gmbh//veranstaltungsausgabe v2.0//DE
VERSION:2.0
METHOD:PUBLISH
BEGIN:VEVENT
DTSTART:20261101T090000Z
DTEND:20261101T100000Z
LOCATION:Kirche Beggingen\, Bohlgass 15.2\, 8228 Beggingen
TRANSP:OPAQUE
SEQUENCE:0
UID:195905-veranstaltung@ref-sh.ch
DTSTAMP:20260407T153021Z
DESCRIPTION:Kontakt: Pfr. James Liebmann\n\nWeitere Infos:
  https://www.ref-sh.ch/veranstaltung/195905
SUMMARY:Gottesdienst
PRIORITY:5
X-MICROSOFT-CDO-IMPORTANCE:1
CLASS:PUBLIC
END:VEVENT
END:VCALENDAR
