BEGIN:VCALENDAR
PRODID:-//kirchenweb.ch gmbh//veranstaltungsausgabe v2.0//DE
VERSION:2.0
METHOD:PUBLISH
BEGIN:VEVENT
DTSTART:20261129T123000Z
DTEND:20261129T133000Z
LOCATION:Turnhalle Siblingen\, \, 8225 Siblingen
TRANSP:OPAQUE
SEQUENCE:0
UID:195909-veranstaltung@ref-sh.ch
DTSTAMP:20260407T124527Z
DESCRIPTION:Buffet mit belegten Brötli\, Kuchen und Torten\nBasteltisch
  für die Kinder\n\nKontakt: yvonne.vogelsanger@ref-sh.ch\n\nWeitere
  Infos: https://www.ref-sh.ch/veranstaltung/195909
SUMMARY:Kafi-Nomittag
PRIORITY:5
X-MICROSOFT-CDO-IMPORTANCE:1
CLASS:PUBLIC
END:VEVENT
END:VCALENDAR
