BEGIN:VCALENDAR
PRODID:-//kirchenweb.ch gmbh//veranstaltungsausgabe v2.0//DE
VERSION:2.0
METHOD:PUBLISH
BEGIN:VEVENT
DTSTART:20270411T080000Z
DTEND:20270411T093000Z
LOCATION:Kirche Beggingen\, Bohlgass 15.2\, 8228 Beggingen
TRANSP:OPAQUE
SEQUENCE:0
UID:196733-veranstaltung@ref-sh.ch
DTSTAMP:20260407T131557Z
DESCRIPTION:Kontakt: yvonne.vogelsanger@ref-sh.ch\n\nWeitere Infos:
  https://www.ref-sh.ch/veranstaltung/196733
SUMMARY:Konfirmations-Gottesdienst
PRIORITY:5
X-MICROSOFT-CDO-IMPORTANCE:1
CLASS:PUBLIC
END:VEVENT
END:VCALENDAR
